0.00903647682883521
0.000000
0.000000
-0.00903647682883521
-96.106426336115
39.7155134998668
