0.00985315496271307
0.000000
0.000000
-0.00985315496271307
-115.636017469926
45.8106900301847
