0.0103020962801846
0.000000
0.000000
-0.0103020962801846
-126.049474723122
48.5429255814986
