0.00840767600319604
0.000000
0.000000
-0.00840767600319604
-95.4940968877619
33.4629077495228
