0.00857108376242896
0.000000
0.000000
-0.00857108376242896
-119.608039953058
35.2717612110485
