0.00853449041193182
0.000000
0.000000
-0.00853449041193182
-88.3460807939009
34.8797163668546
