0.0106524103338068
0.000000
0.000000
-0.0106524103338068
-100.515393843217
50.4520865145597
