0.00902693314985797
0.000000
0.000000
-0.00902693314985797
-124.600569652211
39.6328919289329
