0.0105549760298295
0.000000
0.000000
-0.0105549760298295
-117.147215381969
49.9383412863992
