0.00921827836470172
0.000000
0.000000
-0.00921827836470172
-93.4438730274547
41.2294187233665
