0.00949485085227271
0.000000
0.000000
-0.00949485085227271
-119.646709234064
43.3463382374157
