0.0105682095614346
0.000000
0.000000
-0.0105682095614346
-127.27218102195
50.0169746537642
