0.0075710782137784
0.000000
0.000000
-0.0075710782137784
-68.3465403053977
20.1962610001998
