0.00834919322620739
0.000000
0.000000
-0.00834919322620739
-84.202586850253
32.7758527929133
