0.00935147372159089
0.000000
0.000000
-0.00935147372159089
-89.0807651589134
42.2749797196822
