0.00941212047230115
0.000000
0.000000
-0.00941212047230115
-92.155928067294
42.7346280462092
