0.00826463179154828
0.000000
0.000000
-0.00826463179154828
-97.5542596019398
31.7406415488503
