0.0100851162997159
0.000000
0.000000
-0.0100851162997159
-91.1314923928001
47.2663655229048
