0.0107924582741477
0.000000
0.000000
-0.0107924582741477
-109.856341802424
51.1685310779918
