0.00936207164417614
0.000000
0.000000
-0.00936207164417614
-107.348938626376
42.3558879644221
