0.00874434037642047
0.000000
0.000000
-0.00874434037642047
-106.247927745472
37.0353197548606
