0.00901136918501422
0.000000
0.000000
-0.00901136918501422
-82.9729071461071
39.4976191017844
