0.00843491987748578
0.000000
0.000000
-0.00843491987748578
-87.9852581370961
33.7753845908425
