0.00962194269353693
0.000000
0.000000
-0.00962194269353693
-93.4627731184526
44.2532227810946
