0.00923467462713068
0.000000
0.000000
-0.00923467462713068
-78.2057874922319
41.3609183987704
