0.00919292103160511
0.000000
0.000000
-0.00919292103160511
-124.430281802091
41.0244562738592
