0.0095210682262074
0.000000
0.000000
-0.0095210682262074
-80.8555577364835
43.5365335637873
