0.0103622713955966
0.000000
0.000000
-0.0103622713955966
-70.9104994895242
48.883444962935
