0.0079998779296875
0.000000
0.000000
-0.0079998779296875
-99.8149621582031
28.1119668579102
