0.00859571977095172
0.000000
0.000000
-0.00859571977095172
-89.3444147144665
35.531525962136
