0.0103277865323154
0.000000
0.000000
-0.0103277865323154
-111.699174874046
48.6889774946733
