0.00971099853515625
0.000000
0.000000
-0.00971099853515625
-78.8934446716309
44.8666693115234
