0.00797937566583807
0.000000
0.000000
-0.00797937566583807
-82.8028250260787
27.8013386813077
