0.00880826083096589
0.000000
0.000000
-0.00880826083096589
-104.347073752663
37.6508693070845
