0.0138292347301136
0.000000
0.000000
-0.0138292347301136
-160.768854703036
62.476125238592
