0.0141469504616477
0.000000
0.000000
-0.0141469504616477
-150.53800653631
63.3453397022594
