0.0146984308416193
0.000000
0.000000
-0.0146984308416193
-155.751179060502
64.7607210055265
