0.0102547662908381
0.000000
0.000000
-0.0102547662908381
-101.484304518266
48.2709346285733
