0.0099578857421875
0.000000
0.000000
-0.0099578857421875
-78.6623870849609
46.4894401550293
