0.00865869695490057
0.000000
0.000000
-0.00865869695490057
-120.229281324907
36.1948131075772
