0.010144736550071
0.000000
0.000000
-0.010144736550071
-96.6033510381525
47.633729206432
