0.00912533846768464
0.000000
0.000000
-0.00912533846768464
-88.6770391152122
40.4799038835005
