0.00891149347478693
0.000000
0.000000
-0.00891149347478693
-98.2329952864213
38.6212041958896
