0.00926402698863635
0.000000
0.000000
-0.00926402698863635
-110.98757351962
41.6049756830389
