0.00871446089311078
0.000000
0.000000
-0.00871446089311078
-101.585978962291
36.7541190268777
