0.00962047230113636
0.000000
0.000000
-0.00962047230113636
-93.4623327359286
44.2528191583807
