0.00919150612571021
0.000000
0.000000
-0.00919150612571021
-124.429858037775
41.024067882191
