0.0100858098810369
0.000000
0.000000
-0.0100858098810369
-76.1867004255815
47.2795563992587
