0.00854442249644886
0.000000
0.000000
-0.00854442249644886
-83.601054354581
35.0004427545721
