0.00951962557705964
0.000000
0.000000
-0.00951962557705964
-80.8551256630637
43.5361375565962
